BEGIN:VCALENDAR
VERSION:2.0
PRODID:-//Crossroads Corral - ECPv6.6.1//NONSGML v1.0//EN
CALSCALE:GREGORIAN
METHOD:PUBLISH
X-WR-CALNAME:Crossroads Corral
X-ORIGINAL-URL:https://crossroadscorral.org
X-WR-CALDESC:Events for Crossroads Corral
REFRESH-INTERVAL;VALUE=DURATION:PT1H
X-Robots-Tag:noindex
X-PUBLISHED-TTL:PT1H
BEGIN:VTIMEZONE
TZID:America/New_York
BEGIN:DAYLIGHT
TZOFFSETFROM:-0500
TZOFFSETTO:-0400
TZNAME:EDT
DTSTART:20240310T070000
END:DAYLIGHT
BEGIN:STANDARD
TZOFFSETFROM:-0400
TZOFFSETTO:-0500
TZNAME:EST
DTSTART:20241103T060000
END:STANDARD
BEGIN:DAYLIGHT
TZOFFSETFROM:-0500
TZOFFSETTO:-0400
TZNAME:EDT
DTSTART:20250309T070000
END:DAYLIGHT
BEGIN:STANDARD
TZOFFSETFROM:-0400
TZOFFSETTO:-0500
TZNAME:EST
DTSTART:20251102T060000
END:STANDARD
END:VTIMEZONE
BEGIN:VEVENT
DTSTART;TZID=America/New_York:20251123T093000
DTEND;TZID=America/New_York:20251123T120000
DTSTAMP:20260425T235921
CREATED:20251006T005126Z
LAST-MODIFIED:20251024T220625Z
UID:10000007-1763890200-1763899200@crossroadscorral.org
SUMMARY:Holidays\, Horses and Hope at Crossroads Corral - Sponsored by the Miller Family (In honor of Martha Miller)
DESCRIPTION:Join us for a morning of holiday fun\, barn tours\, photos with the horses\, breakfast\, and a visit with Santa!  \n\n\n\n Admission \n\n\n\n$10 per person (advance ticket sales only) \n\n\n\nChildren under 2 are free \n\n\n\nBuy Tickets \n\n\n\n Event Highlights \n\n\n\nPhotos with Horses in Holiday Attire – Families are invited to pose with Crossroads horses decked out in festive gear and with Santa! \n\n\n\nHoliday Treats & breakfast on the farm \n\n\n\nFestive Games & Activities – Kid-friendly activities like holiday crafts\, reindeer ring toss\, and more. \n\n\n\nCommunity Atmosphere – A fun\, family-focused event with holiday spirit and opportunities to learn about Crossroads Corral’s mission. \n\n\n\nBarn Tours- See the barn\, meet all the therapy horses and learn about our program! \n\n\n\nFundraising opportunities and games! \n\n\n\n Timeline \n\n\n\n9:30 AM – Gates open\, breakfast & treats available \n\n\n\n9:30 AM – 11:45 AM – Photos with horses & Santa\, games\, tours\, and activities ongoing \n\n\n\n11:50 AM – 12:00 PM – Closing remarks \n\n\n\n Sponsorship Opportunities \n\n\n\nTitle Sponsor- $1000 \n\n\n\nTickets for up to 10 guests \n\n\n\nName featured as event presented by “sponsor” \n\n\n\nRecognition at the event and on social media \n\n\n\n Holiday Cheer Sponsor – $500 \n\n\n\nRecognition in social media event posts & signage at the event \n\n\n\nOpportunity to provide a branded giveaway at the event \n\n\n\n6 Tickets to the event \n\n\n\n Festive Friend Sponsor – $250 \n\n\n\nRecognition in social media & signage at the event \n\n\n\n4 Tickets to the event  \n\n\n\nSponsor\, or buy tickets.
URL:https://crossroadscorral.org/event/holidays-horses-and-hope-at-crossroads-corral/
LOCATION:Crossroads Corral\, 205 Lazy Acres Ln.\, Longwood\, FL\, Florida\, 32750
ATTACH;FMTTYPE=image/png:https://crossroadscorral.org/wp-content/uploads/2025/10/558176527_1223898709784446_7617920766891226507_n.png
END:VEVENT
BEGIN:VEVENT
DTSTART;TZID=America/New_York:20250821T173000
DTEND;TZID=America/New_York:20250821T203000
DTSTAMP:20260425T235921
CREATED:20250316T021727Z
LAST-MODIFIED:20250715T233643Z
UID:10000006-1755797400-1755808200@crossroadscorral.org
SUMMARY:Beyond the Barn: Celebrating 10 Years of Hope & Healing
DESCRIPTION: Join Us for a Special Evening Honoring a Decade of Impact!  \n\n\n\n\n\n\n\nCrossroads Corral invites you to Beyond the Barn\, a memorable night celebrating 10 years of hope\, healing\, and transformation through equine-assisted therapy. This event is more than a celebration—it’s a chance to support the individuals and families who have found healing at the barn. \n\n\n\nDate: Thursday\, August 21 Location: Citrus Club of Orlando Dress: Cocktail Attire (Examples) Get Your Tickets & see sponsorship opportunities below!  \n\n\n\nAn Evening to Remember\n\n\n\n Special Guest Speaker: Stan Van Gundy\, a proud supporter of Crossroads Corral Live Music: Performed by the talented Reggie on the Sax Exciting Raffles\, Delicious Food\, Drinks & Silent Auction \n\n\n\nBecome a Sponsor & Make an Impact\n\n\n\nSupport Crossroads Corral and enjoy premium event perks with one of our sponsorship packages: \n\n\n\n Table Sponsor – $500 (Sold Out) \n\n\n\n\n10 event tickets\n\n\n\nReserved table with your name/logo signage\n\n\n\n\n Bar Sponsor – $1\,000 (Sold Out) \n\n\n\n\n4 event tickets\n\n\n\nProminent signage at the bar\n\n\n\n\n Dessert Sponsor – $250 (Sold Out) \n\n\n\n\n2 event tickets\n\n\n\nSignage at the dessert table\n\n\n\n\n Your sponsorship ensures that Crossroads Corral can continue providing life-changing equine therapy to veterans\, at-risk youth\, and individuals in need. \n\n\n\n Reserve Your Spot Today! \n\n\n\n$45 per person for general admission!  \n\n\n\nDon’t miss this inspiring evening of celebration and giving back.  \n\n\n\n  \n\n\n\nGet your tickets / Browse Sponsor Opportunities \n\n\n\nWe can’t wait to celebrate this milestone with you! \n\n\n\nThe Crossroads Corral Team
URL:https://crossroadscorral.org/event/beyond-the-barn-celebrating-10-years-of-hope-healing/
LOCATION:Citrus Club of Orlando\, 255 S Orange Ave STE 1800\,\, Orlando\, Florida\, 32801\, United States
ATTACH;FMTTYPE=image/png:https://crossroadscorral.org/wp-content/uploads/2025/03/2025-Cocktails-for-a-Cause-1.png
END:VEVENT
BEGIN:VEVENT
DTSTART;TZID=America/New_York:20250215T150000
DTEND;TZID=America/New_York:20250215T170000
DTSTAMP:20260425T235921
CREATED:20250111T195554Z
LAST-MODIFIED:20250111T200019Z
UID:10000003-1739631600-1739638800@crossroadscorral.org
SUMMARY:Valentine's Day Experience
DESCRIPTION:Celebrate Love In A Meaningful Way This Valentine’s Day at Crossroads Corral! Champaign\, Chocolate & Horses. All proceeds benefit our Equine Assisted Mental Health Program!
URL:https://crossroadscorral.org/event/valentines-day-experience/
LOCATION:Crossroads Corral\, 205 Lazy Acres Lane.\, Longwood\, Florida\, 32750\, United States
ATTACH;FMTTYPE=image/png:https://crossroadscorral.org/wp-content/uploads/2025/01/CRC-Social-Header.png
END:VEVENT
BEGIN:VEVENT
DTSTART;TZID=America/New_York:20250125T150000
DTEND;TZID=America/New_York:20250125T170000
DTSTAMP:20260425T235921
CREATED:20250111T200951Z
LAST-MODIFIED:20250111T200953Z
UID:10000004-1737817200-1737824400@crossroadscorral.org
SUMMARY:HANDS-ON HEALING: EXPERIENCE EQUINE ASSISTED THERAPIES & IMPACT IN ACTION
DESCRIPTION:This interactive workshop offers aunique opportunity to learn about ourmission and participate in engagingmock sessions guided by our skilledfacilitators and horses.  \n\n\n\nThis event is complimentary & yourchance to experience the magic ofequine therapy firsthand. \n\n\n\nRSVP RequiredLindsay@CrossroadsCorral.org
URL:https://crossroadscorral.org/event/hands-on-healing-experience-equine-assisted-therapies-impact-in-action/
LOCATION:Crossroads Corral\, 205 Lazy Acres Ln.\, Longwood\, FL\, Florida\, 32750
ATTACH;FMTTYPE=image/png:https://crossroadscorral.org/wp-content/uploads/2025/01/CRC-Hands-on-Healing-Therapy-Experience-Event.png
END:VEVENT
BEGIN:VEVENT
DTSTART;TZID=America/New_York:20241126T173000
DTEND;TZID=America/New_York:20241126T193000
DTSTAMP:20260425T235921
CREATED:20241102T132530Z
LAST-MODIFIED:20241102T133301Z
UID:10000002-1732642200-1732649400@crossroadscorral.org
SUMMARY:Sip & Shop: Adult Fundraising Event
DESCRIPTION:SAVE THE DATE and plan your Thanksgiving cocktail/wine/beer purchases for NOV 26 at the Good Pour! We will have a welcome cocktail as well as a tasting bar. You can sip and shop\, where a % of proceeds will go to us and our program! \n\n\n\nAlso\, anytime you shop at Good Pour\, you can download their app and add us as your charity of choice. \n\n\n\nGoodPourApp.com; select health and wellness\, then scroll to Crossroads Corral!
URL:https://crossroadscorral.org/event/sip-shop-adult-fundraising-event/
LOCATION:The Good Pour (Longwood)\, 2648 W State Rd 434\, Longwood\, Florida\, 32779
ATTACH;FMTTYPE=image/webp:https://crossroadscorral.org/wp-content/uploads/2024/11/Good-Pour.webp
END:VEVENT
BEGIN:VEVENT
DTSTART;TZID=America/New_York:20241013T130000
DTEND;TZID=America/New_York:20241013T160000
DTSTAMP:20260425T235921
CREATED:20240622T144948Z
LAST-MODIFIED:20240925T132100Z
UID:10000001-1728824400-1728835200@crossroadscorral.org
SUMMARY:Fall on the Farm Festival/Horse Costume Parade 
DESCRIPTION:Fall on the Farm Festival & Horse Costume Parade \n\n\n\n\n\n\n\n\nBuy Tickets at Eventbrite\n\n\n\n\nJoin us for a fun-filled Fall on the Farm Festival and Horse Costume Parade on October 13th at our beautiful farm in Longwood! Bring your family to enjoy a parade of horses dressed in creative costumes\, perfect for taking memorable photos. Stroll through our scenic farm\, enjoy fall-themed activities\, and indulge in seasonal treats available for both people and horses. We will offer “pony rides” at an additional charge of $10/ride from 1:30-3:00 PM. Additional activities will be available for purchase as well.  \n\n\n\nThis festive event draws in over 150 attendees and offers exciting sponsorship opportunities! Become a sponsor for just $200 and receive prominent signage on the farm\, our website\, and complimentary admission for your family. Sponsors are also invited to set up a table to promote your business and give out promotional items and candy for our trick-or-treating guests! This is not required to sponsor the event.  \n\n\n\nContact Lindsay@CrossroadsCorral.org to sign up as a sponsor! \n\n\n\nTickets are $25 per family (not per person) paid at the farm at entry to the event. Come celebrate the beauty of fall with us and create lasting memories. You can also buy tickets in advance on EventBrite. \n\n\n\nEvent Schedule\n\n\n\n\n1:00 Gates Open- Welcome to the farm! \n\n\n\n\n\n1:30-3:00 PM- Pony Rides available for $10/ride \n\n\n\n\n\n1:00- 3:00- Fall Mini Photo shoots available $60/family- contact Tiffany@CrossroadsCorral.org to sign up! Horses are available for photos. \n\n\n\n\n\n3:00-3:20- Horses will get dressed in costumes \n\n\n\n\n\n3:20-3:40- Horse Costume Parade then guests can take photos with horses \n\n\n\n\n\n3:40- 4:00 Relax and enjoy the farm before departing \n\n\n\n\nAll proceeds benefit our therapy horses and Equine-Assisted Psychotherapy Program.  \n\n\n\n\n\n\n\n\n\n\n\n\n\nThank you to our Fall Event Sponsors
URL:https://crossroadscorral.org/event/fall2024/
LOCATION:Crossroads Corral\, 205 Lazy Acres Ln.\, Longwood\, FL\, Florida\, 32750
ATTACH;FMTTYPE=image/png:https://crossroadscorral.org/wp-content/uploads/2024/06/Fall-24-Pic-for-website-.png
END:VEVENT
END:VCALENDAR